BEGIN:VCALENDAR
VERSION:2.0
PRODID:-//hacksw/handcal//NONSGML v1.0//EN
CALSCALE:GREGORIAN
BEGIN:VEVENT
UID:69e853d41fd63
SEQUENCE:0
DESCRIPTION:１日が３倍になる！　超・神・時間術 ＆ 大忘年会
DTSTART:20221217T040000Z
DTEND:20221217T084500Z
SUMMARY:１日が３倍になる！　超・神・時間術 ＆ 大忘年会
LOCATION:
URL:https://e-ve.event-form.jp/event/43754/2212N
DTSTAMP:20260422T135132Z
END:VEVENT
END:VCALENDAR