BEGIN:VCALENDAR
VERSION:2.0
PRODID:-//hacksw/handcal//NONSGML v1.0//EN
CALSCALE:GREGORIAN
BEGIN:VEVENT
UID:69e5be9c1bee0
SEQUENCE:0
DESCRIPTION:□△○ 株式会社 CEO ◯□△氏が語る、これからのビジネス
DTSTART:20300116T052600Z
DTEND:20300116T072600Z
SUMMARY:サンプル | GMOペイメント決済デモページ｜○□△氏 特別公演 | イーベ！
LOCATION:株式会社フラッグ システム 会議室
URL:https://e-ve.event-form.jp/event/44376/gmo
DTSTAMP:20260420T145020Z
END:VEVENT
END:VCALENDAR