BEGIN:VCALENDAR
VERSION:2.0
PRODID:-//hacksw/handcal//NONSGML v1.0//EN
CALSCALE:GREGORIAN
BEGIN:VEVENT
UID:69e5246845d27
SEQUENCE:0
DESCRIPTION:資料請求フォーム
DTSTART:20230206T070700Z
DTEND:20300206T090700Z
SUMMARY:資料請求フォーム
LOCATION:
URL:https://e-ve.event-form.jp/event/45301/documentform
DTSTAMP:20260420T035224Z
END:VEVENT
END:VCALENDAR