BEGIN:VCALENDAR
VERSION:2.0
PRODID:-//hacksw/handcal//NONSGML v1.0//EN
CALSCALE:GREGORIAN
BEGIN:VEVENT
UID:69e4edaa6e469
SEQUENCE:0
DESCRIPTION:ホワイトペーパー請求フォーム
DTSTART:20230206T075200Z
DTEND:20300206T095200Z
SUMMARY:ホワイトペーパー請求フォーム
LOCATION:
URL:https://e-ve.event-form.jp/event/45312/whitepaperform
DTSTAMP:20260419T235850Z
END:VEVENT
END:VCALENDAR