BEGIN:VCALENDAR
VERSION:2.0
PRODID:-//hacksw/handcal//NONSGML v1.0//EN
CALSCALE:GREGORIAN
BEGIN:VEVENT
UID:69ea660e4382f
SEQUENCE:0
DESCRIPTION:投資戦略フェア EXPO2023
DTSTART:20230311T010000Z
DTEND:20230311T093000Z
SUMMARY:投資戦略フェア EXPO2023
LOCATION:パシフィコ横浜 ノース
URL:https://e-ve.event-form.jp/event/47623/vGG1nYqhMmvl
DTSTAMP:20260424T033350Z
END:VEVENT
END:VCALENDAR