BEGIN:VCALENDAR
VERSION:2.0
PRODID:-//hacksw/handcal//NONSGML v1.0//EN
CALSCALE:GREGORIAN
BEGIN:VEVENT
UID:69e55c77beaab
SEQUENCE:0
DESCRIPTION:〈複数拠点チェックイン機能を利用する〉
DTSTART:20230414T065300Z
DTEND:20300414T085300Z
SUMMARY:サンプル｜就職フェア20△○｜イーべ！
LOCATION:
URL:https://e-ve.event-form.jp/event/49628/samplefindworkfestival
DTSTAMP:20260420T075135Z
END:VEVENT
END:VCALENDAR