BEGIN:VCALENDAR
VERSION:2.0
PRODID:-//hacksw/handcal//NONSGML v1.0//EN
CALSCALE:GREGORIAN
BEGIN:VEVENT
UID:69e81ddc64efa
SEQUENCE:0
DESCRIPTION:baser Meetup vol.3
DTSTART:20230527T090000Z
DTEND:20230527T120000Z
SUMMARY:baser Meetup vol.3
LOCATION:エンジニアカフェ
URL:https://e-ve.event-form.jp/event/51556/basercms002
DTSTAMP:20260422T100116Z
END:VEVENT
END:VCALENDAR