BEGIN:VCALENDAR
VERSION:2.0
PRODID:-//hacksw/handcal//NONSGML v1.0//EN
CALSCALE:GREGORIAN
BEGIN:VEVENT
UID:69e4dc3f1150d
SEQUENCE:0
DESCRIPTION:＜6/29（木）リアル会場＋オンライン配信＞津田久資氏『新マーケティング原論』刊行記念セミナー
DTSTART:20230629T100000Z
DTEND:20230629T120000Z
SUMMARY:＜6/29（木）リアル会場＋オンライン配信＞津田久資氏『新マーケティング原論』刊行記念セミナー
LOCATION:オンライン／ZOOM
URL:https://e-ve.event-form.jp/event/53599/Kfly
DTSTAMP:20260419T224431Z
END:VEVENT
END:VCALENDAR