BEGIN:VCALENDAR
VERSION:2.0
PRODID:-//hacksw/handcal//NONSGML v1.0//EN
CALSCALE:GREGORIAN
BEGIN:VEVENT
UID:69e81cee91261
SEQUENCE:0
DESCRIPTION:baserCMS 東京 Meetup
DTSTART:20230929T100000Z
DTEND:20230929T123000Z
SUMMARY:baserCMS 東京 Meetup
LOCATION:東京都港区五反田 付近
URL:https://e-ve.event-form.jp/event/61087/basercms003
DTSTAMP:20260422T095718Z
END:VEVENT
END:VCALENDAR