BEGIN:VCALENDAR
VERSION:2.0
PRODID:-//hacksw/handcal//NONSGML v1.0//EN
CALSCALE:GREGORIAN
BEGIN:VEVENT
UID:69e75d5ceb295
SEQUENCE:0
DESCRIPTION:＜10/27（金）リアル会場＋オンライン配信＞山本健人氏『すばらしい医学』刊行記念セミナー
DTSTART:20231027T100000Z
DTEND:20231027T120000Z
SUMMARY:＜10/27（金）リアル会場＋オンライン配信＞山本健人氏『すばらしい医学』刊行記念セミナー
LOCATION:オンライン／ZOOM
URL:https://e-ve.event-form.jp/event/61573/Kfly
DTSTAMP:20260421T201956Z
END:VEVENT
END:VCALENDAR