BEGIN:VCALENDAR
VERSION:2.0
PRODID:-//hacksw/handcal//NONSGML v1.0//EN
CALSCALE:GREGORIAN
BEGIN:VEVENT
UID:69e5ff251202a
SEQUENCE:0
DESCRIPTION:投資戦略フェア EXPO2024 同時開催
DTSTART:20240302T010000Z
DTEND:20240302T093000Z
SUMMARY:個人投資家感謝DAY「春のIR祭り2024」
LOCATION:東京ドームシティ　プリズムホール
URL:https://e-ve.event-form.jp/event/71866/gBsp09NH
DTSTAMP:20260420T192541Z
END:VEVENT
END:VCALENDAR