BEGIN:VCALENDAR
VERSION:2.0
PRODID:-//hacksw/handcal//NONSGML v1.0//EN
CALSCALE:GREGORIAN
BEGIN:VEVENT
UID:69ebc7628ede8
SEQUENCE:0
DESCRIPTION:【5月8日(水)開催】インナービューティサロンEsthe Pro Labo フランチャイズオンライン説明会
DTSTART:20240508T020000Z
DTEND:20240508T024500Z
SUMMARY:【5月8日(水)開催】インナービューティサロンEsthe Pro Labo フランチャイズオンライン説明会
LOCATION:
URL:https://e-ve.event-form.jp/event/75382/71Mn
DTSTAMP:20260425T044122Z
END:VEVENT
END:VCALENDAR