BEGIN:VCALENDAR
VERSION:2.0
PRODID:-//hacksw/handcal//NONSGML v1.0//EN
CALSCALE:GREGORIAN
BEGIN:VEVENT
UID:69ecc4186a130
SEQUENCE:0
DESCRIPTION:オートアフターマーケット九州2024
DTSTART:20240928T010000Z
DTEND:20240929T070000Z
SUMMARY:オートアフターマーケット九州2024
LOCATION:マリンメッセ福岡 B館
URL:https://e-ve.event-form.jp/event/81956/AA_Kyusyu
DTSTAMP:20260425T223936Z
END:VEVENT
END:VCALENDAR