BEGIN:VCALENDAR
VERSION:2.0
PRODID:-//hacksw/handcal//NONSGML v1.0//EN
CALSCALE:GREGORIAN
BEGIN:VEVENT
UID:69eb8edea6f40
SEQUENCE:0
DESCRIPTION:〜妊活とミトコンドリア〜
DTSTART:20240828T040000Z
DTEND:20240828T063000Z
SUMMARY:少子化大国日本の未来を変える⁈デアザフラビンの可能性
LOCATION:プロラボホールディングス本社・オンライン同時開催
URL:https://e-ve.event-form.jp/event/82404/4Kli3PtbHO68
DTSTAMP:20260425T004014Z
END:VEVENT
END:VCALENDAR