BEGIN:VCALENDAR
VERSION:2.0
PRODID:-//hacksw/handcal//NONSGML v1.0//EN
CALSCALE:GREGORIAN
BEGIN:VEVENT
UID:69ebceb571f2c
SEQUENCE:0
DESCRIPTION:高齢犬の心疾患
DTSTART:20240906T042100Z
DTEND:20240906T062100Z
SUMMARY:Veterinary Cardio Night LIVE2024 ハンドアウト購入専用ページ
LOCATION:WEB SEMINAR
URL:https://e-ve.event-form.jp/event/84803/veterinarycardionightlive2024handout
DTSTAMP:20260425T051237Z
END:VEVENT
END:VCALENDAR