BEGIN:VCALENDAR
VERSION:2.0
PRODID:-//hacksw/handcal//NONSGML v1.0//EN
CALSCALE:GREGORIAN
BEGIN:VEVENT
UID:69e744e75e9da
SEQUENCE:0
DESCRIPTION:にほんごスピーチたいかい かんらんしゃぼしゅう
DTSTART:20250308T043000Z
DTEND:20250308T080000Z
SUMMARY:第22回日本語スピーチ大会観覧者募集
LOCATION:杉並区役所　第4会議室（中棟6階）
URL:https://e-ve.event-form.jp/event/93600/dvsVksWwbfh7
DTSTAMP:20260421T183535Z
END:VEVENT
END:VCALENDAR