BEGIN:VCALENDAR
VERSION:2.0
PRODID:-//hacksw/handcal//NONSGML v1.0//EN
CALSCALE:GREGORIAN
BEGIN:VEVENT
UID:69e569f357597
SEQUENCE:0
DESCRIPTION:イーベ！夏祭り
DTSTART:20350101T010000Z
DTEND:20350101T080000Z
SUMMARY:イーベ！夏祭り
LOCATION:
URL:https://e-ve.event-form.jp/event/93749/sample_fincod_shinsa
DTSTAMP:20260420T084907Z
END:VEVENT
END:VCALENDAR