BEGIN:VCALENDAR
VERSION:2.0
PRODID:-//hacksw/handcal//NONSGML v1.0//EN
CALSCALE:GREGORIAN
BEGIN:VEVENT
UID:69e73ceb942c1
SEQUENCE:0
DESCRIPTION:KCCIビジネススクール
DTSTART:20251006T010000Z
DTEND:20251006T080000Z
SUMMARY:【10月6日】若手社員向け「ものづくり」基本研修
LOCATION:神戸商工会議所　3階会議室
URL:https://e-ve.event-form.jp/event/95258/kcci20251006
DTSTAMP:20260421T180131Z
END:VEVENT
END:VCALENDAR