BEGIN:VCALENDAR
VERSION:2.0
PRODID:-//hacksw/handcal//NONSGML v1.0//EN
CALSCALE:GREGORIAN
BEGIN:VEVENT
UID:69ebc9e130c0e
SEQUENCE:0
DESCRIPTION:頭頚部の画像診断（X線・超音波検査）を身につける！
DTSTART:20250405T060000Z
DTEND:20250405T090000Z
SUMMARY:（横浜会場）4月5日　復習できるウェットラボ：頭頚部X線＆エコー実習（末松正弘先生）
LOCATION:アインス動物病院
URL:https://e-ve.event-form.jp/event/98010/vetstechwetlabo250405
DTSTAMP:20260425T045201Z
END:VEVENT
END:VCALENDAR