BEGIN:VCALENDAR
VERSION:2.0
PRODID:-//hacksw/handcal//NONSGML v1.0//EN
CALSCALE:GREGORIAN
BEGIN:VEVENT
UID:69e518d2cbf63
SEQUENCE:0
DESCRIPTION:ジャーナリストカフェ in 新潟大学５・１０新大生
DTSTART:20250510T040000Z
DTEND:20250510T073000Z
SUMMARY:ジャーナリストカフェ in 新潟大学５・１０新大生
LOCATION:新潟大学 五十嵐キャンパス 中央図書館内 ライブラリーホール
URL:https://e-ve.event-form.jp/event/98900/journalistcafe_20250510_shindai
DTSTAMP:20260420T030258Z
END:VEVENT
END:VCALENDAR